BEGIN:VCALENDAR
VERSION:2.0
PRODID:-//Gecko Canoeing &amp; Trekking - ECPv5.1.1//NONSGML v1.0//EN
CALSCALE:GREGORIAN
METHOD:PUBLISH
X-WR-CALNAME:Gecko Canoeing &amp; Trekking
X-ORIGINAL-URL:https://geckocanoeing.com.au
X-WR-CALDESC:Events for Gecko Canoeing &amp; Trekking
BEGIN:VTIMEZONE
TZID:Australia/Darwin
BEGIN:STANDARD
TZOFFSETFROM:+0930
TZOFFSETTO:+0930
TZNAME:ACST
DTSTART:20210101T000000
END:STANDARD
END:VTIMEZONE
BEGIN:VEVENT
DTSTART;VALUE=DATE:20210721
DTEND;VALUE=DATE:20210722
DTSTAMP:20210225T215550
CREATED:20201211T061437Z
LAST-MODIFIED:20201211T061437Z
UID:2170-1626825600-1626911999@geckocanoeing.com.au
SUMMARY:3 Day - Katherine River Safari - 8 positions available
DESCRIPTION:If NT Local – please enquire about NT Local ‘Special Rate’ \n
URL:https://geckocanoeing.com.au/tour/3-day-katherine-river-safari-8-positions-available/
CATEGORIES:River Touring 3 Day
ATTACH;FMTTYPE=image/jpeg:https://geckocanoeing.com.au/wp-content/uploads/2016/10/Gecko-P06.jpg
END:VEVENT
END:VCALENDAR